BEGIN:VCALENDAR
VERSION:2.0
PRODID:-//Konzervatoř P. J. Vejvanovského Kroměříž - ECPv6.15.17.1//NONSGML v1.0//EN
CALSCALE:GREGORIAN
METHOD:PUBLISH
X-WR-CALNAME:Konzervatoř P. J. Vejvanovského Kroměříž
X-ORIGINAL-URL:https://www.konzkm.cz
X-WR-CALDESC:Akce na Konzervatoř P. J. Vejvanovského Kroměříž
REFRESH-INTERVAL;VALUE=DURATION:PT1H
X-Robots-Tag:noindex
X-PUBLISHED-TTL:PT1H
BEGIN:VTIMEZONE
TZID:Europe/Prague
BEGIN:DAYLIGHT
TZOFFSETFROM:+0100
TZOFFSETTO:+0200
TZNAME:CEST
DTSTART:20220327T010000
END:DAYLIGHT
BEGIN:STANDARD
TZOFFSETFROM:+0200
TZOFFSETTO:+0100
TZNAME:CET
DTSTART:20221030T010000
END:STANDARD
BEGIN:DAYLIGHT
TZOFFSETFROM:+0100
TZOFFSETTO:+0200
TZNAME:CEST
DTSTART:20230326T010000
END:DAYLIGHT
BEGIN:STANDARD
TZOFFSETFROM:+0200
TZOFFSETTO:+0100
TZNAME:CET
DTSTART:20231029T010000
END:STANDARD
BEGIN:DAYLIGHT
TZOFFSETFROM:+0100
TZOFFSETTO:+0200
TZNAME:CEST
DTSTART:20240331T010000
END:DAYLIGHT
BEGIN:STANDARD
TZOFFSETFROM:+0200
TZOFFSETTO:+0100
TZNAME:CET
DTSTART:20241027T010000
END:STANDARD
BEGIN:DAYLIGHT
TZOFFSETFROM:+0100
TZOFFSETTO:+0200
TZNAME:CEST
DTSTART:20250330T010000
END:DAYLIGHT
BEGIN:STANDARD
TZOFFSETFROM:+0200
TZOFFSETTO:+0100
TZNAME:CET
DTSTART:20251026T010000
END:STANDARD
BEGIN:DAYLIGHT
TZOFFSETFROM:+0100
TZOFFSETTO:+0200
TZNAME:CEST
DTSTART:20260329T010000
END:DAYLIGHT
BEGIN:STANDARD
TZOFFSETFROM:+0200
TZOFFSETTO:+0100
TZNAME:CET
DTSTART:20261025T010000
END:STANDARD
BEGIN:DAYLIGHT
TZOFFSETFROM:+0100
TZOFFSETTO:+0200
TZNAME:CEST
DTSTART:20270328T010000
END:DAYLIGHT
BEGIN:STANDARD
TZOFFSETFROM:+0200
TZOFFSETTO:+0100
TZNAME:CET
DTSTART:20271031T010000
END:STANDARD
END:VTIMEZONE
BEGIN:VEVENT
DTSTART;TZID=Europe/Prague:20260416T190000
DTEND;TZID=Europe/Prague:20260416T190000
DTSTAMP:20260419T205739
CREATED:20260326T095345Z
LAST-MODIFIED:20260326T095345Z
UID:4944-1776366000-1776366000@www.konzkm.cz
SUMMARY:Absolventský koncert
DESCRIPTION:
URL:https://www.konzkm.cz/akce/absolventsky-koncert-48/
LOCATION:secesní sál Psychiatrické nemocnice Kroměříž\, Kroměříž
CATEGORIES:absolventské koncerty
END:VEVENT
BEGIN:VEVENT
DTSTART;TZID=Europe/Prague:20260414T190000
DTEND;TZID=Europe/Prague:20260414T190000
DTSTAMP:20260419T205739
CREATED:20260326T095215Z
LAST-MODIFIED:20260326T095215Z
UID:4941-1776193200-1776193200@www.konzkm.cz
SUMMARY:Orchestrální absolventský koncert
DESCRIPTION:
URL:https://www.konzkm.cz/akce/orchestralni-absolventsky-koncert-5/
LOCATION:secesní sál Psychiatrické nemocnice Kroměříž\, Kroměříž
CATEGORIES:absolventské koncerty
END:VEVENT
BEGIN:VEVENT
DTSTART;TZID=Europe/Prague:20260408T190000
DTEND;TZID=Europe/Prague:20260408T190000
DTSTAMP:20260419T205739
CREATED:20260326T094726Z
LAST-MODIFIED:20260326T094726Z
UID:4938-1775674800-1775674800@www.konzkm.cz
SUMMARY:Absolventský koncert
DESCRIPTION:
URL:https://www.konzkm.cz/akce/absolventsky-koncert-47/
LOCATION:secesní sál Psychiatrické nemocnice Kroměříž\, Kroměříž
CATEGORIES:absolventské koncerty
END:VEVENT
BEGIN:VEVENT
DTSTART;TZID=Europe/Prague:20260331T190000
DTEND;TZID=Europe/Prague:20260331T190000
DTSTAMP:20260419T205739
CREATED:20260326T094521Z
LAST-MODIFIED:20260326T094623Z
UID:4933-1774983600-1774983600@www.konzkm.cz
SUMMARY:Absolventský koncert
DESCRIPTION:
URL:https://www.konzkm.cz/akce/4933/
LOCATION:secesní sál Psychiatrické nemocnice Kroměříž\, Kroměříž
CATEGORIES:absolventské koncerty
END:VEVENT
BEGIN:VEVENT
DTSTART;TZID=Europe/Prague:20260323T190000
DTEND;TZID=Europe/Prague:20260323T190000
DTSTAMP:20260419T205739
CREATED:20260323T071411Z
LAST-MODIFIED:20260323T071411Z
UID:4928-1774292400-1774292400@www.konzkm.cz
SUMMARY:Absolventský koncert
DESCRIPTION:
URL:https://www.konzkm.cz/akce/absolventsky-koncert-46/
LOCATION:secesní sál Psychiatrické nemocnice Kroměříž\, Kroměříž
CATEGORIES:absolventské koncerty
END:VEVENT
BEGIN:VEVENT
DTSTART;TZID=Europe/Prague:20260319T190000
DTEND;TZID=Europe/Prague:20260319T190000
DTSTAMP:20260419T205739
CREATED:20260311T133221Z
LAST-MODIFIED:20260311T133221Z
UID:4920-1773946800-1773946800@www.konzkm.cz
SUMMARY:Absolventský koncert
DESCRIPTION:
URL:https://www.konzkm.cz/akce/absolventsky-koncert-45/
LOCATION:secesní sál Psychiatrické nemocnice Kroměříž\, Kroměříž
CATEGORIES:absolventské koncerty
END:VEVENT
BEGIN:VEVENT
DTSTART;TZID=Europe/Prague:20260317T190000
DTEND;TZID=Europe/Prague:20260317T190000
DTSTAMP:20260419T205739
CREATED:20260311T132601Z
LAST-MODIFIED:20260311T132907Z
UID:4916-1773774000-1773774000@www.konzkm.cz
SUMMARY:Absolventský koncert
DESCRIPTION:
URL:https://www.konzkm.cz/akce/absolventsky-koncert-44/
LOCATION:secesní sál Psychiatrické nemocnice Kroměříž\, Kroměříž
CATEGORIES:absolventské koncerty
END:VEVENT
BEGIN:VEVENT
DTSTART;TZID=Europe/Prague:20260312T190000
DTEND;TZID=Europe/Prague:20260312T190000
DTSTAMP:20260419T205739
CREATED:20260226T151459Z
LAST-MODIFIED:20260226T151459Z
UID:4903-1773342000-1773342000@www.konzkm.cz
SUMMARY:Absolventský koncert
DESCRIPTION:
URL:https://www.konzkm.cz/akce/absolventsky-koncert-43/
LOCATION:secesní sál Psychiatrické nemocnice Kroměříž\, Kroměříž
CATEGORIES:absolventské koncerty
END:VEVENT
BEGIN:VEVENT
DTSTART;TZID=Europe/Prague:20250423T180000
DTEND;TZID=Europe/Prague:20250423T180000
DTSTAMP:20260419T205739
CREATED:20250407T140434Z
LAST-MODIFIED:20250407T140434Z
UID:4575-1745431200-1745431200@www.konzkm.cz
SUMMARY:Absolventský koncert
DESCRIPTION:
URL:https://www.konzkm.cz/akce/absolventsky-koncert-42/
LOCATION:Bazilika Nanebevzetí Panny Marie a sv. Cyrila a Metoděje Velehrad
CATEGORIES:absolventské koncerty
END:VEVENT
BEGIN:VEVENT
DTSTART;TZID=Europe/Prague:20250415T190000
DTEND;TZID=Europe/Prague:20250415T190000
DTSTAMP:20260419T205739
CREATED:20250407T140250Z
LAST-MODIFIED:20250407T140250Z
UID:4572-1744743600-1744743600@www.konzkm.cz
SUMMARY:Orchestrální absolventský koncert
DESCRIPTION:
URL:https://www.konzkm.cz/akce/orchestralni-absolventsky-koncert-4/
LOCATION:secesní sál Psychiatrické nemocnice Kroměříž\, Kroměříž
CATEGORIES:absolventské koncerty
END:VEVENT
BEGIN:VEVENT
DTSTART;TZID=Europe/Prague:20250408T190000
DTEND;TZID=Europe/Prague:20250408T190000
DTSTAMP:20260419T205739
CREATED:20250331T102716Z
LAST-MODIFIED:20250331T102716Z
UID:4550-1744138800-1744138800@www.konzkm.cz
SUMMARY:Absolventský koncert
DESCRIPTION:
URL:https://www.konzkm.cz/akce/absolventsky-koncert-41/
LOCATION:secesní sál Psychiatrické nemocnice Kroměříž\, Kroměříž
CATEGORIES:absolventské koncerty
END:VEVENT
BEGIN:VEVENT
DTSTART;TZID=Europe/Prague:20250402T190000
DTEND;TZID=Europe/Prague:20250402T190000
DTSTAMP:20260419T205739
CREATED:20250331T102701Z
LAST-MODIFIED:20250331T102701Z
UID:4547-1743620400-1743620400@www.konzkm.cz
SUMMARY:Absolventský koncert
DESCRIPTION:
URL:https://www.konzkm.cz/akce/absolventsky-koncert-40/
LOCATION:secesní sál Psychiatrické nemocnice Kroměříž\, Kroměříž
CATEGORIES:absolventské koncerty
END:VEVENT
BEGIN:VEVENT
DTSTART;TZID=Europe/Prague:20250326T190000
DTEND;TZID=Europe/Prague:20250326T190000
DTSTAMP:20260419T205739
CREATED:20250321T102112Z
LAST-MODIFIED:20250321T102148Z
UID:4543-1743015600-1743015600@www.konzkm.cz
SUMMARY:Absolventský koncert
DESCRIPTION:
URL:https://www.konzkm.cz/akce/absolventsky-koncert-39/
LOCATION:secesní sál Psychiatrické nemocnice Kroměříž\, Kroměříž
CATEGORIES:absolventské koncerty
END:VEVENT
BEGIN:VEVENT
DTSTART;TZID=Europe/Prague:20250325T190000
DTEND;TZID=Europe/Prague:20250325T190000
DTSTAMP:20260419T205739
CREATED:20250321T102142Z
LAST-MODIFIED:20250321T102142Z
UID:4539-1742929200-1742929200@www.konzkm.cz
SUMMARY:Absolventský koncert
DESCRIPTION:
URL:https://www.konzkm.cz/akce/absolventsky-koncert-38/
LOCATION:koncertní sál kina Nadsklepí\, Milíčovo náměstí 488/2\, Kroměříž\, 76701
CATEGORIES:absolventské koncerty
END:VEVENT
BEGIN:VEVENT
DTSTART;TZID=Europe/Prague:20250319T190000
DTEND;TZID=Europe/Prague:20250319T190000
DTSTAMP:20260419T205739
CREATED:20250310T083747Z
LAST-MODIFIED:20250310T083747Z
UID:4524-1742410800-1742410800@www.konzkm.cz
SUMMARY:Absolventský koncert
DESCRIPTION:
URL:https://www.konzkm.cz/akce/absolventsky-koncert-37/
LOCATION:secesní sál Psychiatrické nemocnice Kroměříž\, Kroměříž
CATEGORIES:absolventské koncerty
END:VEVENT
BEGIN:VEVENT
DTSTART;TZID=Europe/Prague:20250312T190000
DTEND;TZID=Europe/Prague:20250312T190000
DTSTAMP:20260419T205739
CREATED:20250310T083742Z
LAST-MODIFIED:20250310T083742Z
UID:4520-1741806000-1741806000@www.konzkm.cz
SUMMARY:Absolventský koncert
DESCRIPTION:
URL:https://www.konzkm.cz/akce/absolventsky-koncert-36/
LOCATION:secesní sál Psychiatrické nemocnice Kroměříž\, Kroměříž
CATEGORIES:absolventské koncerty
END:VEVENT
BEGIN:VEVENT
DTSTART;TZID=Europe/Prague:20250310T190000
DTEND;TZID=Europe/Prague:20250310T190000
DTSTAMP:20260419T205739
CREATED:20250304T183238Z
LAST-MODIFIED:20250304T183238Z
UID:4505-1741633200-1741633200@www.konzkm.cz
SUMMARY:Absolventský koncert
DESCRIPTION:
URL:https://www.konzkm.cz/akce/absolventsky-koncert-35/
LOCATION:secesní sál Psychiatrické nemocnice Kroměříž\, Kroměříž
CATEGORIES:absolventské koncerty
END:VEVENT
BEGIN:VEVENT
DTSTART;TZID=Europe/Prague:20250304T190000
DTEND;TZID=Europe/Prague:20250304T190000
DTSTAMP:20260419T205739
CREATED:20250219T082856Z
LAST-MODIFIED:20250219T082856Z
UID:4500-1741114800-1741114800@www.konzkm.cz
SUMMARY:Absolventský koncert
DESCRIPTION:
URL:https://www.konzkm.cz/akce/absolventsky-koncert-34/
LOCATION:secesní sál Psychiatrické nemocnice Kroměříž\, Kroměříž
CATEGORIES:absolventské koncerty
END:VEVENT
BEGIN:VEVENT
DTSTART;TZID=Europe/Prague:20240423T190000
DTEND;TZID=Europe/Prague:20240423T190000
DTSTAMP:20260419T205739
CREATED:20240408T072439Z
LAST-MODIFIED:20240408T072439Z
UID:4278-1713898800-1713898800@www.konzkm.cz
SUMMARY:Orchestrální absolventský koncert
DESCRIPTION:
URL:https://www.konzkm.cz/akce/orchestralni-absolventsky-koncert-3/
LOCATION:secesní sál Psychiatrické nemocnice Kroměříž\, Kroměříž
CATEGORIES:absolventské koncerty
END:VEVENT
BEGIN:VEVENT
DTSTART;TZID=Europe/Prague:20240417T180000
DTEND;TZID=Europe/Prague:20240417T180000
DTSTAMP:20260419T205739
CREATED:20240408T072435Z
LAST-MODIFIED:20240408T072435Z
UID:4275-1713376800-1713376800@www.konzkm.cz
SUMMARY:Absolventský koncert
DESCRIPTION:
URL:https://www.konzkm.cz/akce/absolventsky-koncert-33/
LOCATION:Bazilika Nanebevzetí Panny Marie a sv. Cyrila a Metoděje Velehrad
CATEGORIES:absolventské koncerty
END:VEVENT
BEGIN:VEVENT
DTSTART;TZID=Europe/Prague:20240416T190000
DTEND;TZID=Europe/Prague:20240416T190000
DTSTAMP:20260419T205739
CREATED:20240408T072431Z
LAST-MODIFIED:20240408T072431Z
UID:4272-1713294000-1713294000@www.konzkm.cz
SUMMARY:Absolventský koncert
DESCRIPTION:
URL:https://www.konzkm.cz/akce/absolventsky-koncert-32/
LOCATION:secesní sál Psychiatrické nemocnice Kroměříž\, Kroměříž
CATEGORIES:absolventské koncerty
END:VEVENT
BEGIN:VEVENT
DTSTART;TZID=Europe/Prague:20240410T190000
DTEND;TZID=Europe/Prague:20240410T190000
DTSTAMP:20260419T205739
CREATED:20240326T081002Z
LAST-MODIFIED:20240410T074148Z
UID:4268-1712775600-1712775600@www.konzkm.cz
SUMMARY:Absolventský koncert
DESCRIPTION:
URL:https://www.konzkm.cz/akce/absolventsky-koncert-30/
LOCATION:secesní sál Psychiatrické nemocnice Kroměříž\, Kroměříž
CATEGORIES:absolventské koncerty
END:VEVENT
BEGIN:VEVENT
DTSTART;TZID=Europe/Prague:20240409T190000
DTEND;TZID=Europe/Prague:20240409T190000
DTSTAMP:20260419T205739
CREATED:20240326T081025Z
LAST-MODIFIED:20240521T063139Z
UID:4265-1712689200-1712689200@www.konzkm.cz
SUMMARY:Absolventský koncert
DESCRIPTION:
URL:https://www.konzkm.cz/akce/absolventsky-koncert-31/
LOCATION:koncertní sál kina Nadsklepí\, Milíčovo náměstí 488/2\, Kroměříž\, 76701
CATEGORIES:absolventské koncerty
END:VEVENT
BEGIN:VEVENT
DTSTART;TZID=Europe/Prague:20240404T190000
DTEND;TZID=Europe/Prague:20240404T190000
DTSTAMP:20260419T205739
CREATED:20240326T081008Z
LAST-MODIFIED:20240409T153224Z
UID:4262-1712257200-1712257200@www.konzkm.cz
SUMMARY:Absolventský koncert
DESCRIPTION:
URL:https://www.konzkm.cz/akce/absolvnetsky-koncert/
LOCATION:secesní sál Psychiatrické nemocnice Kroměříž\, Kroměříž
CATEGORIES:absolventské koncerty
END:VEVENT
BEGIN:VEVENT
DTSTART;TZID=Europe/Prague:20240326T190000
DTEND;TZID=Europe/Prague:20240326T190000
DTSTAMP:20260419T205739
CREATED:20240311T075603Z
LAST-MODIFIED:20240326T081020Z
UID:4219-1711479600-1711479600@www.konzkm.cz
SUMMARY:Absolventský koncert
DESCRIPTION:
URL:https://www.konzkm.cz/akce/absolventsky-koncert-29/
LOCATION:secesní sál Psychiatrické nemocnice Kroměříž\, Kroměříž
CATEGORIES:absolventské koncerty
END:VEVENT
BEGIN:VEVENT
DTSTART;TZID=Europe/Prague:20240320T190000
DTEND;TZID=Europe/Prague:20240320T190000
DTSTAMP:20260419T205739
CREATED:20240311T075209Z
LAST-MODIFIED:20240311T075209Z
UID:4216-1710961200-1710961200@www.konzkm.cz
SUMMARY:Absolventský koncert
DESCRIPTION:
URL:https://www.konzkm.cz/akce/absolventsky-koncert-28/
LOCATION:secesní sál Psychiatrické nemocnice Kroměříž\, Kroměříž
CATEGORIES:absolventské koncerty
END:VEVENT
BEGIN:VEVENT
DTSTART;TZID=Europe/Prague:20230426T180000
DTEND;TZID=Europe/Prague:20230426T180000
DTSTAMP:20260419T205739
CREATED:20230424T071437Z
LAST-MODIFIED:20230424T071437Z
UID:3953-1682532000-1682532000@www.konzkm.cz
SUMMARY:Absolventský koncert
DESCRIPTION:
URL:https://www.konzkm.cz/akce/absolventsky-koncert-27/
LOCATION:Bazilika Nanebevzetí Panny Marie a sv. Cyrila a Metoděje Velehrad
CATEGORIES:absolventské koncerty
END:VEVENT
BEGIN:VEVENT
DTSTART;TZID=Europe/Prague:20230419T190000
DTEND;TZID=Europe/Prague:20230419T190000
DTSTAMP:20260419T205739
CREATED:20230411T105826Z
LAST-MODIFIED:20230922T074538Z
UID:3939-1681930800-1681930800@www.konzkm.cz
SUMMARY:Orchestrální absolventský koncert
DESCRIPTION:
URL:https://www.konzkm.cz/akce/orchestralni-absolventsky-koncert-2/
LOCATION:secesní sál Psychiatrické nemocnice Kroměříž\, Kroměříž
CATEGORIES:absolventské koncerty
END:VEVENT
BEGIN:VEVENT
DTSTART;TZID=Europe/Prague:20230417T190000
DTEND;TZID=Europe/Prague:20230417T190000
DTSTAMP:20260419T205739
CREATED:20230411T105553Z
LAST-MODIFIED:20230922T074451Z
UID:3936-1681758000-1681758000@www.konzkm.cz
SUMMARY:Absolventský koncert
DESCRIPTION:
URL:https://www.konzkm.cz/akce/absolventsky-koncert-26/
LOCATION:secesní sál Psychiatrické nemocnice Kroměříž\, Kroměříž
CATEGORIES:absolventské koncerty
END:VEVENT
BEGIN:VEVENT
DTSTART;TZID=Europe/Prague:20230404T190000
DTEND;TZID=Europe/Prague:20230404T190000
DTSTAMP:20260419T205739
CREATED:20230329T185121Z
LAST-MODIFIED:20230922T074402Z
UID:3922-1680634800-1680634800@www.konzkm.cz
SUMMARY:Absolventský koncert
DESCRIPTION:
URL:https://www.konzkm.cz/akce/absolventsky-koncert-25/
LOCATION:secesní sál Psychiatrické nemocnice Kroměříž\, Kroměříž
CATEGORIES:absolventské koncerty
END:VEVENT
END:VCALENDAR