BEGIN:VCALENDAR
VERSION:2.0
PRODID:-//Konzervatoř P. J. Vejvanovského Kroměříž - ECPv6.15.17.1//NONSGML v1.0//EN
CALSCALE:GREGORIAN
METHOD:PUBLISH
X-ORIGINAL-URL:https://www.konzkm.cz
X-WR-CALDESC:Akce na Konzervatoř P. J. Vejvanovského Kroměříž
REFRESH-INTERVAL;VALUE=DURATION:PT1H
X-Robots-Tag:noindex
X-PUBLISHED-TTL:PT1H
BEGIN:VTIMEZONE
TZID:Europe/Prague
BEGIN:DAYLIGHT
TZOFFSETFROM:+0100
TZOFFSETTO:+0200
TZNAME:CEST
DTSTART:20250330T010000
END:DAYLIGHT
BEGIN:STANDARD
TZOFFSETFROM:+0200
TZOFFSETTO:+0100
TZNAME:CET
DTSTART:20251026T010000
END:STANDARD
BEGIN:DAYLIGHT
TZOFFSETFROM:+0100
TZOFFSETTO:+0200
TZNAME:CEST
DTSTART:20260329T010000
END:DAYLIGHT
BEGIN:STANDARD
TZOFFSETFROM:+0200
TZOFFSETTO:+0100
TZNAME:CET
DTSTART:20261025T010000
END:STANDARD
BEGIN:DAYLIGHT
TZOFFSETFROM:+0100
TZOFFSETTO:+0200
TZNAME:CEST
DTSTART:20270328T010000
END:DAYLIGHT
BEGIN:STANDARD
TZOFFSETFROM:+0200
TZOFFSETTO:+0100
TZNAME:CET
DTSTART:20271031T010000
END:STANDARD
END:VTIMEZONE
BEGIN:VEVENT
DTSTART;TZID=Europe/Prague:20260422T180000
DTEND;TZID=Europe/Prague:20260422T180000
DTSTAMP:20260419T174507
CREATED:20260326T095449Z
LAST-MODIFIED:20260326T095449Z
UID:4947-1776880800-1776880800@www.konzkm.cz
SUMMARY:Absolventský koncert
DESCRIPTION:
URL:https://www.konzkm.cz/akce/absolventsky-koncert-49/
LOCATION:Bazilika Nanebevzetí Panny Marie a sv. Cyrila a Metoděje Velehrad
CATEGORIES:absolventské koncerty
END:VEVENT
END:VCALENDAR