BEGIN:VCALENDAR
VERSION:2.0
PRODID:-//Konzervatoř P. J. Vejvanovského Kroměříž - ECPv6.15.17.1//NONSGML v1.0//EN
CALSCALE:GREGORIAN
METHOD:PUBLISH
X-WR-CALNAME:Konzervatoř P. J. Vejvanovského Kroměříž
X-ORIGINAL-URL:https://www.konzkm.cz
X-WR-CALDESC:Akce na Konzervatoř P. J. Vejvanovského Kroměříž
REFRESH-INTERVAL;VALUE=DURATION:PT1H
X-Robots-Tag:noindex
X-PUBLISHED-TTL:PT1H
BEGIN:VTIMEZONE
TZID:Europe/Prague
BEGIN:DAYLIGHT
TZOFFSETFROM:+0100
TZOFFSETTO:+0200
TZNAME:CEST
DTSTART:20180325T010000
END:DAYLIGHT
BEGIN:STANDARD
TZOFFSETFROM:+0200
TZOFFSETTO:+0100
TZNAME:CET
DTSTART:20181028T010000
END:STANDARD
BEGIN:DAYLIGHT
TZOFFSETFROM:+0100
TZOFFSETTO:+0200
TZNAME:CEST
DTSTART:20190331T010000
END:DAYLIGHT
BEGIN:STANDARD
TZOFFSETFROM:+0200
TZOFFSETTO:+0100
TZNAME:CET
DTSTART:20191027T010000
END:STANDARD
BEGIN:DAYLIGHT
TZOFFSETFROM:+0100
TZOFFSETTO:+0200
TZNAME:CEST
DTSTART:20200329T010000
END:DAYLIGHT
BEGIN:STANDARD
TZOFFSETFROM:+0200
TZOFFSETTO:+0100
TZNAME:CET
DTSTART:20201025T010000
END:STANDARD
BEGIN:DAYLIGHT
TZOFFSETFROM:+0100
TZOFFSETTO:+0200
TZNAME:CEST
DTSTART:20210328T010000
END:DAYLIGHT
BEGIN:STANDARD
TZOFFSETFROM:+0200
TZOFFSETTO:+0100
TZNAME:CET
DTSTART:20211031T010000
END:STANDARD
BEGIN:DAYLIGHT
TZOFFSETFROM:+0100
TZOFFSETTO:+0200
TZNAME:CEST
DTSTART:20220327T010000
END:DAYLIGHT
BEGIN:STANDARD
TZOFFSETFROM:+0200
TZOFFSETTO:+0100
TZNAME:CET
DTSTART:20221030T010000
END:STANDARD
BEGIN:DAYLIGHT
TZOFFSETFROM:+0100
TZOFFSETTO:+0200
TZNAME:CEST
DTSTART:20230326T010000
END:DAYLIGHT
BEGIN:STANDARD
TZOFFSETFROM:+0200
TZOFFSETTO:+0100
TZNAME:CET
DTSTART:20231029T010000
END:STANDARD
END:VTIMEZONE
BEGIN:VEVENT
DTSTART;TZID=Europe/Prague:20220331T190000
DTEND;TZID=Europe/Prague:20220331T190000
DTSTAMP:20260420T173204
CREATED:20220324T101934Z
LAST-MODIFIED:20220324T101934Z
UID:3523-1648753200-1648753200@www.konzkm.cz
SUMMARY:Absolventský koncert
DESCRIPTION:
URL:https://www.konzkm.cz/akce/absolventsky-koncert-15/
LOCATION:aula konzervatoře
CATEGORIES:absolventské koncerty
END:VEVENT
BEGIN:VEVENT
DTSTART;TZID=Europe/Prague:20220329T190000
DTEND;TZID=Europe/Prague:20220329T190000
DTSTAMP:20260420T173204
CREATED:20220323T104026Z
LAST-MODIFIED:20220324T101749Z
UID:3518-1648580400-1648580400@www.konzkm.cz
SUMMARY:Absolventský koncert
DESCRIPTION:
URL:https://www.konzkm.cz/akce/3518/
LOCATION:koncertní sál kina Nadsklepí\, Milíčovo náměstí 488/2\, Kroměříž\, 76701
CATEGORIES:absolventské koncerty
END:VEVENT
BEGIN:VEVENT
DTSTART;TZID=Europe/Prague:20220322T190000
DTEND;TZID=Europe/Prague:20220322T190000
DTSTAMP:20260420T173204
CREATED:20220316T110909Z
LAST-MODIFIED:20220316T110909Z
UID:3507-1647975600-1647975600@www.konzkm.cz
SUMMARY:Absolventský koncert
DESCRIPTION:
URL:https://www.konzkm.cz/akce/absolventsky-koncert-14/
LOCATION:koncertní sál kina Nadsklepí\, Milíčovo náměstí 488/2\, Kroměříž\, 76701
CATEGORIES:absolventské koncerty
END:VEVENT
BEGIN:VEVENT
DTSTART;TZID=Europe/Prague:20220315T190000
DTEND;TZID=Europe/Prague:20220315T190000
DTSTAMP:20260420T173204
CREATED:20220309T090214Z
LAST-MODIFIED:20220309T090214Z
UID:3469-1647370800-1647370800@www.konzkm.cz
SUMMARY:Absolventský koncert
DESCRIPTION:
URL:https://www.konzkm.cz/akce/absolventsky-koncert-13/
LOCATION:koncertní sál kina Nadsklepí\, Milíčovo náměstí 488/2\, Kroměříž\, 76701
CATEGORIES:absolventské koncerty
END:VEVENT
BEGIN:VEVENT
DTSTART;TZID=Europe/Prague:20220308T190000
DTEND;TZID=Europe/Prague:20220308T190000
DTSTAMP:20260420T173204
CREATED:20220228T192614Z
LAST-MODIFIED:20220228T192614Z
UID:3460-1646766000-1646766000@www.konzkm.cz
SUMMARY:Absolventský koncert
DESCRIPTION:
URL:https://www.konzkm.cz/akce/absolventsky-koncert-12/
LOCATION:koncertní sál kina Nadsklepí\, Milíčovo náměstí 488/2\, Kroměříž\, 76701
CATEGORIES:absolventské koncerty
END:VEVENT
BEGIN:VEVENT
DTSTART;TZID=Europe/Prague:20220303T190000
DTEND;TZID=Europe/Prague:20220303T190000
DTSTAMP:20260420T173204
CREATED:20220224T114928Z
LAST-MODIFIED:20220224T114934Z
UID:3455-1646334000-1646334000@www.konzkm.cz
SUMMARY:Absolventský koncert
DESCRIPTION:
URL:https://www.konzkm.cz/akce/absolventsky-koncert-11/
LOCATION:aula SPgŠ\, 1. máje 221\, Kroměříž\, 76701
CATEGORIES:absolventské koncerty
END:VEVENT
BEGIN:VEVENT
DTSTART;TZID=Europe/Prague:20200310T190000
DTEND;TZID=Europe/Prague:20200310T190000
DTSTAMP:20260420T173204
CREATED:20200228T164636Z
LAST-MODIFIED:20200228T164636Z
UID:2840-1583866800-1583866800@www.konzkm.cz
SUMMARY:Absolventský koncert
DESCRIPTION:program: \n\nE. Grieg: Sonáta e moll op. 7\n– Allegro moderato\n– Andante molto Alta menuetto\n– Finale\, molto allegro\n\n\nGabriela LEHAROVÁ – klavír – ze třídy prof. Vandy Jandové\n\n\nA. Glazunov: Koncert Es dur pro altový saxofon a klavír op. 109\n\nKamila KRÁTKÁ – saxofon – ze třídy prof. Antonína Mühlhansla\nklavírní spolupráce prof. Martina Mergentalová
URL:https://www.konzkm.cz/akce/absolventsky-koncert-10/
LOCATION:koncertní sál kina Nadsklepí\, Milíčovo náměstí 488/2\, Kroměříž\, 76701
CATEGORIES:absolventské koncerty
END:VEVENT
BEGIN:VEVENT
DTSTART;TZID=Europe/Prague:20190430T180000
DTEND;TZID=Europe/Prague:20190430T180000
DTSTAMP:20260420T173204
CREATED:20190426T183636Z
LAST-MODIFIED:20190426T183932Z
UID:2374-1556647200-1556647200@www.konzkm.cz
SUMMARY:Absolventský koncert
DESCRIPTION:program: \n\nAnonym (14. stol.): In Pro\nA. Corelli: Sonata č. I\, op. 5\nGrave-Allegro-Adagio-Grave-Allegro-Adagio\, Allegro\, Allegro\, Adagio\, Allegro \nM. Maute: Les Barricades\nW. Wander van Nieuwkerk: Voci\, voci\nJ. Ch. Schickhardt: Concerto II\, op. 19\nAllegro\, Adagio\, Allegro\n\nEva POLEDNOVÁ – zobcová flétna\n \n\nSpoluúčinkují:\nLucie Lerlová\, Magdaléna Klímová\, Michala Pešková – zobcové flétny\nIvona Křivánková\, Hana Kubíková – cembalo\nVeronika Málaska – violoncello\nJosefína Janková – djembe\n\n\n\nJ. S. Bach: Preludium a Fuga Es dur pro organo pleno\, BWV 552\nP. Eben: Musica Dominicalis – Fantasia II\nH. A. Stamm: Toccata Gaelica\n\nHana KUBÍKOVÁ – varhany
URL:https://www.konzkm.cz/akce/absolventsky-koncert-8/
LOCATION:kostel sv. Bartoloměje\, Napajedla\, 76361
CATEGORIES:absolventské koncerty
END:VEVENT
BEGIN:VEVENT
DTSTART;TZID=Europe/Prague:20190423T190000
DTEND;TZID=Europe/Prague:20190423T190000
DTSTAMP:20260420T173204
CREATED:20190408T220801Z
LAST-MODIFIED:20190408T221327Z
UID:2308-1556046000-1556046000@www.konzkm.cz
SUMMARY:Absolventský koncert
DESCRIPTION:program: \n\nC. Reinecke: Sonata „Undine“ op. 167 pro flétnu a klavír\n– Allegro\n– Intermezzo – Allegretto vivace\n– Andante tranquillo\n– Finale – Allegro molto\n\nAlena DOSTÁLOVÁ – příčná flétna – ze třídy prof. Magdy Čáslavové\nklavírní spolupráce prof. Mária Vaitová \n\n\nJ. Brahms: Koncert D dur pro housle a klavír op. 77\n– Allegro non troppo\nB. Martinů: Madrigal pro housle a violu H 313\n– Poco allegro\n\nAlžběta JEŽKOVÁ – housle – ze třídy prof. Václava Křivánka a Ivany Kovalčíkové\nklavírní spolupráce prof. prof. Mária Vaitová\nspoluúčinkuje: Daniel Macho \n\n\nK. Erickson: In the Valley of the Kings – II.\, III. – tympány\nW. Reifender: Crossover – malý buben\nCh. Corea: Spain – vibrafon\nCh. Corea: Señor Mouse – vibrafon\nJ. Redman: Jazzcrimes – bicí souprava\n\nDavid PEKAŘ – bicí nástroje – ze třídy prof. Bohdana Šebestíka a Josefa Cigánka\nspoluúčinkují: Michal Pospíšil – klavír\, Martin Václavík – kontrabas\, Miroslav Uher – cajon
URL:https://www.konzkm.cz/akce/absolventsky-koncert-7/
LOCATION:koncertní sál kina Nadsklepí\, Milíčovo náměstí 488/2\, Kroměříž\, 76701
CATEGORIES:absolventské koncerty
END:VEVENT
BEGIN:VEVENT
DTSTART;TZID=Europe/Prague:20190328T190000
DTEND;TZID=Europe/Prague:20190328T190000
DTSTAMP:20260420T173204
CREATED:20190327T145037Z
LAST-MODIFIED:20190327T181044Z
UID:2070-1553799600-1553799600@www.konzkm.cz
SUMMARY:Absolventský koncert
DESCRIPTION:program: \n\nGeorg Friedrich Händel: Árie Cleopatry „Vadoro pupille“ z opery Julius Caesar\nDaniel Auber: Árie Manon „L ́éclat de Rire“ z opery Manon Lescaut\nGiacomo Puccini: Árie Musetty „Quando men vo“ z opery La Bohéme\nJohann Strauss: Árie Adély „Mein Herr  Marquis“ z operety Netopýr\nJeanine Tesori: The Girl in 14G soudobá píseň\n\nLucie KRUPÍKOVÁ – zpěv – ze třídy prof. Martiny Macko\nklavírní spolupráce: prof Eva Zonová \n  \n\nClaude Bolling: Jazz a la Francais\n– A la Francais\n– Garnerama\n– Blue Kiss From Brazil\n– Not This Time\n\nMarie DRKULOVÁ – klavír – ze třídy prof. Ondřeje Hubáčka\nspoluúčinkují: Martin Václavík – kontrabas\, Vojtěch Plachý – bicí nástroje \n  \n\n\nEmmanuel Sejourne: Attraction – marimba\, vibrafon\nAlexej Gerassimez: Asventuras – malý buben\nJohn Psathas: Buyan – tympány\nDominik Kopečný: Gravity – bicí souprava\n\nDominik Kopečný – bicí nástroje – ze třídy prof. Gregora Kruyera a prof. Josefa Cigánka
URL:https://www.konzkm.cz/akce/2070/
LOCATION:koncertní sál kina Nadsklepí\, Milíčovo náměstí 488/2\, Kroměříž\, 76701
CATEGORIES:absolventské koncerty
END:VEVENT
BEGIN:VEVENT
DTSTART;TZID=Europe/Prague:20190326T190000
DTEND;TZID=Europe/Prague:20190326T190000
DTSTAMP:20260420T173204
CREATED:20190319T070332Z
LAST-MODIFIED:20190319T070332Z
UID:2013-1553626800-1553626800@www.konzkm.cz
SUMMARY:Absolventský koncert
DESCRIPTION:program: \n\nJarmila Mazourová: Tři metamorfózy pro cimbál\n– Láska\n– Zrada\n– Nenávist\n\nDominika STANISLAVOVÁ – cimbál – ze třídy prof. Petra Spěváka\, MEd.\n\n\nFerenc Liszt: Sonetto 104 del Petrarca\nErvín Schulhoff: Sonáta č. 1\n– Allegro molto\n– Molto tranquillo\n– Allegro moderato grotesco\n– Allegro molto\n\nVeronika PRAJKOVÁ – klavír – ze třídy Mgr. Karla Košárka\npřestávka  \n\n\nEdward Gregson: Tuba Concerto\n– Allegro deciso\n– Lento e mesto\n– Allegro giocoso\n\nTomáš SACHR – tuba – ze třídy prof. Rudolfa Berana\nklavírní spolupráce Mgr. Lenka Polášková
URL:https://www.konzkm.cz/akce/absolventsky-koncert-2/
LOCATION:koncertní sál kina Nadsklepí\, Milíčovo náměstí 488/2\, Kroměříž\, 76701
CATEGORIES:absolventské koncerty
END:VEVENT
BEGIN:VEVENT
DTSTART;TZID=Europe/Prague:20190319T190000
DTEND;TZID=Europe/Prague:20190319T190000
DTSTAMP:20260420T173204
CREATED:20190228T120802Z
LAST-MODIFIED:20190314T171752Z
UID:1881-1553022000-1553022000@www.konzkm.cz
SUMMARY:Absolventský koncert
DESCRIPTION:program: \n\nJohann Sebastian Bach: Cello Suite No. 6\n– Sarabande\n– Gigue\nAstor Piazzolla: Invierno Porteno\nFrancisco Tarrega: Fantasia La Traviata\nRoland Dyens: Songe Capricorne\n\nLukáš HANDRYCH – kytara – ze třídy prof. Stanislava Heglase\n\n\nClaude Debussy: Preludia – II. kniha\n– General Lavine\n– Ohňostroj\nFerenc Liszt: Fantasia quasi sonata\n\nAdam GULIŠ – klavír – ze třídy MgA. Vandy Jandové
URL:https://www.konzkm.cz/akce/absolventsky-koncert/
LOCATION:koncertní sál kina Nadsklepí\, Milíčovo náměstí 488/2\, Kroměříž\, 76701
CATEGORIES:absolventské koncerty
END:VEVENT
END:VCALENDAR