BEGIN:VCALENDAR
VERSION:2.0
PRODID:-//Konzervatoř P. J. Vejvanovského Kroměříž - ECPv6.15.17.1//NONSGML v1.0//EN
CALSCALE:GREGORIAN
METHOD:PUBLISH
X-WR-CALNAME:Konzervatoř P. J. Vejvanovského Kroměříž
X-ORIGINAL-URL:https://www.konzkm.cz
X-WR-CALDESC:Akce na Konzervatoř P. J. Vejvanovského Kroměříž
REFRESH-INTERVAL;VALUE=DURATION:PT1H
X-Robots-Tag:noindex
X-PUBLISHED-TTL:PT1H
BEGIN:VTIMEZONE
TZID:Europe/Prague
BEGIN:DAYLIGHT
TZOFFSETFROM:+0100
TZOFFSETTO:+0200
TZNAME:CEST
DTSTART:20230326T010000
END:DAYLIGHT
BEGIN:STANDARD
TZOFFSETFROM:+0200
TZOFFSETTO:+0100
TZNAME:CET
DTSTART:20231029T010000
END:STANDARD
BEGIN:DAYLIGHT
TZOFFSETFROM:+0100
TZOFFSETTO:+0200
TZNAME:CEST
DTSTART:20240331T010000
END:DAYLIGHT
BEGIN:STANDARD
TZOFFSETFROM:+0200
TZOFFSETTO:+0100
TZNAME:CET
DTSTART:20241027T010000
END:STANDARD
BEGIN:DAYLIGHT
TZOFFSETFROM:+0100
TZOFFSETTO:+0200
TZNAME:CEST
DTSTART:20250330T010000
END:DAYLIGHT
BEGIN:STANDARD
TZOFFSETFROM:+0200
TZOFFSETTO:+0100
TZNAME:CET
DTSTART:20251026T010000
END:STANDARD
BEGIN:DAYLIGHT
TZOFFSETFROM:+0100
TZOFFSETTO:+0200
TZNAME:CEST
DTSTART:20260329T010000
END:DAYLIGHT
BEGIN:STANDARD
TZOFFSETFROM:+0200
TZOFFSETTO:+0100
TZNAME:CET
DTSTART:20261025T010000
END:STANDARD
END:VTIMEZONE
BEGIN:VEVENT
DTSTART;TZID=Europe/Prague:20250325T190000
DTEND;TZID=Europe/Prague:20250325T190000
DTSTAMP:20260420T120728
CREATED:20250321T102142Z
LAST-MODIFIED:20250321T102142Z
UID:4539-1742929200-1742929200@www.konzkm.cz
SUMMARY:Absolventský koncert
DESCRIPTION:
URL:https://www.konzkm.cz/akce/absolventsky-koncert-38/
LOCATION:koncertní sál kina Nadsklepí\, Milíčovo náměstí 488/2\, Kroměříž\, 76701
CATEGORIES:absolventské koncerty
END:VEVENT
BEGIN:VEVENT
DTSTART;TZID=Europe/Prague:20250319T190000
DTEND;TZID=Europe/Prague:20250319T190000
DTSTAMP:20260420T120728
CREATED:20250310T083747Z
LAST-MODIFIED:20250310T083747Z
UID:4524-1742410800-1742410800@www.konzkm.cz
SUMMARY:Absolventský koncert
DESCRIPTION:
URL:https://www.konzkm.cz/akce/absolventsky-koncert-37/
LOCATION:secesní sál Psychiatrické nemocnice Kroměříž\, Kroměříž
CATEGORIES:absolventské koncerty
END:VEVENT
BEGIN:VEVENT
DTSTART;TZID=Europe/Prague:20250312T190000
DTEND;TZID=Europe/Prague:20250312T190000
DTSTAMP:20260420T120728
CREATED:20250310T083742Z
LAST-MODIFIED:20250310T083742Z
UID:4520-1741806000-1741806000@www.konzkm.cz
SUMMARY:Absolventský koncert
DESCRIPTION:
URL:https://www.konzkm.cz/akce/absolventsky-koncert-36/
LOCATION:secesní sál Psychiatrické nemocnice Kroměříž\, Kroměříž
CATEGORIES:absolventské koncerty
END:VEVENT
BEGIN:VEVENT
DTSTART;TZID=Europe/Prague:20250310T190000
DTEND;TZID=Europe/Prague:20250310T190000
DTSTAMP:20260420T120728
CREATED:20250304T183238Z
LAST-MODIFIED:20250304T183238Z
UID:4505-1741633200-1741633200@www.konzkm.cz
SUMMARY:Absolventský koncert
DESCRIPTION:
URL:https://www.konzkm.cz/akce/absolventsky-koncert-35/
LOCATION:secesní sál Psychiatrické nemocnice Kroměříž\, Kroměříž
CATEGORIES:absolventské koncerty
END:VEVENT
BEGIN:VEVENT
DTSTART;TZID=Europe/Prague:20250304T190000
DTEND;TZID=Europe/Prague:20250304T190000
DTSTAMP:20260420T120728
CREATED:20250219T082856Z
LAST-MODIFIED:20250219T082856Z
UID:4500-1741114800-1741114800@www.konzkm.cz
SUMMARY:Absolventský koncert
DESCRIPTION:
URL:https://www.konzkm.cz/akce/absolventsky-koncert-34/
LOCATION:secesní sál Psychiatrické nemocnice Kroměříž\, Kroměříž
CATEGORIES:absolventské koncerty
END:VEVENT
BEGIN:VEVENT
DTSTART;TZID=Europe/Prague:20250208T090000
DTEND;TZID=Europe/Prague:20250208T120000
DTSTAMP:20260420T120728
CREATED:20241211T160028Z
LAST-MODIFIED:20241211T160028Z
UID:4465-1739005200-1739016000@www.konzkm.cz
SUMMARY:Kurzy hudební teorie
DESCRIPTION:
URL:https://www.konzkm.cz/akce/kurzy-hudebni-teorie/
LOCATION:aula konzervatoře
END:VEVENT
BEGIN:VEVENT
DTSTART;TZID=Europe/Prague:20241219T190000
DTEND;TZID=Europe/Prague:20241219T190000
DTSTAMP:20260420T120728
CREATED:20241206T092159Z
LAST-MODIFIED:20241206T092159Z
UID:4458-1734634800-1734634800@www.konzkm.cz
SUMMARY:Adventní koncert
DESCRIPTION:
URL:https://www.konzkm.cz/akce/adventni-koncert/
LOCATION:kostel Nanebevzetí Panny Marie\, Kroměříž\, Česká republika
END:VEVENT
BEGIN:VEVENT
DTSTART;TZID=Europe/Prague:20241210T190000
DTEND;TZID=Europe/Prague:20241210T190000
DTSTAMP:20260420T120728
CREATED:20241122T161913Z
LAST-MODIFIED:20241122T161913Z
UID:4445-1733857200-1733857200@www.konzkm.cz
SUMMARY:Vánoční koncert BIG BANDU
DESCRIPTION:
URL:https://www.konzkm.cz/akce/vanocni-koncert-big-bandu/
LOCATION:koncertní sál kina Nadsklepí\, Milíčovo náměstí 488/2\, Kroměříž\, 76701
END:VEVENT
BEGIN:VEVENT
DTSTART;TZID=Europe/Prague:20241206T080000
DTEND;TZID=Europe/Prague:20241207T120000
DTSTAMP:20260420T120728
CREATED:20240928T173333Z
LAST-MODIFIED:20240930T083036Z
UID:4403-1733472000-1733572800@www.konzkm.cz
SUMMARY:Den otevřených dveří
DESCRIPTION:Srdečně zveme zájemce o studium v těchto zaměřeních v oborech HUDBA a ZPĚV: \n\nklávesové nástroje (klavír\, varhany\, cembalo)\nsmyčcové nástroje (housle\, viola\, violoncello\, kontrabas)\ndechové nástroje dřevěné a žesťové (flétna příčná i zobcová\, klarinet\, saxofon\, hoboj\, fagot\, trubka\, trombon\, tuba\, lesní roh)\nbicí nástroje \nlidové nástroje (kytara\, cimbál\, akordeon)\nzpěv (klasický)\n\nPátek 6. prosince 2024 od 8:00 do 14:00 hodin a sobota 7. prosince 2024 od 8:00 do 12:00 hodin. \nOd setkání očekávejte v pátek prohlídku školy\, možnost zhlédnutí probíhající výuky\, ukázku praktických dovedností studentů… \nV sobotu máte možnost individuálních konzultací vhodnosti a kvality repertoáru připravovaného k březnové talentové zkoušce s odbornými pedagogy naší konzervatoře. Bude Vám také sdělena náplň zkoušky z hudební teorie. Seznámíte se s podmínkami přijímací talentové zkoušky pro školní rok 2025/2026\, která se bude konat v pondělí a úterý 17. a 18. března 2025. \nPřihlášky k talentové zkoušce odevzdejte do 20. února 2025  elektronicky v systému DIPSY nebo písemně na adresu: \nKonzervatoř P. J. Vejvanovského Kroměříž\, Pilařova 7/1\, 767 01 Kroměříž. \nK talentové zkoušce budete písemně pozváni nejpozději 7 dnů před jejím termínem. \nPro podrobné informace o obsahu a požadavcích talentové zkoušky každého hudebního nástroje či zpěvu navštivte webové stránky naší školy. \nMgr. Václav Křivánek\, ředitel školy
URL:https://www.konzkm.cz/akce/den-otevrenych-dveri-5/
LOCATION:aula konzervatoře
END:VEVENT
BEGIN:VEVENT
DTSTART;TZID=Europe/Prague:20241203T190000
DTEND;TZID=Europe/Prague:20241203T190000
DTSTAMP:20260420T120728
CREATED:20241122T161909Z
LAST-MODIFIED:20241127T083225Z
UID:4442-1733252400-1733252400@www.konzkm.cz
SUMMARY:Koncert studentů
DESCRIPTION:
URL:https://www.konzkm.cz/akce/koncert-studentu-3/
LOCATION:koncertní sál kina Nadsklepí\, Milíčovo náměstí 488/2\, Kroměříž\, 76701
END:VEVENT
BEGIN:VEVENT
DTSTART;TZID=Europe/Prague:20241126T180000
DTEND;TZID=Europe/Prague:20241126T180000
DTSTAMP:20260420T120728
CREATED:20241106T082235Z
LAST-MODIFIED:20241106T082235Z
UID:4433-1732644000-1732644000@www.konzkm.cz
SUMMARY:Klavírní duo
DESCRIPTION:
URL:https://www.konzkm.cz/akce/klavirni-duo-2/
LOCATION:aula konzervatoře
END:VEVENT
BEGIN:VEVENT
DTSTART;TZID=Europe/Prague:20241116T090000
DTEND;TZID=Europe/Prague:20241116T180000
DTSTAMP:20260420T120728
CREATED:20240930T064317Z
LAST-MODIFIED:20240930T064317Z
UID:4409-1731747600-1731780000@www.konzkm.cz
SUMMARY:KM VOCALS
DESCRIPTION:Konzervatoř P. J. Vejvanovského Kroměříž pořádá interpretační pěvecké kurzy pro talentované žáky ZUŠ.
URL:https://www.konzkm.cz/akce/km-vocals-5/
LOCATION:aula konzervatoře
END:VEVENT
BEGIN:VEVENT
DTSTART;TZID=Europe/Prague:20241111T190000
DTEND;TZID=Europe/Prague:20241111T190000
DTSTAMP:20260420T120728
CREATED:20241023T072450Z
LAST-MODIFIED:20241023T140815Z
UID:4426-1731351600-1731351600@www.konzkm.cz
SUMMARY:Benefiční koncert
DESCRIPTION:
URL:https://www.konzkm.cz/akce/beneficni-koncert-2/
LOCATION:secesní sál Psychiatrické nemocnice Kroměříž\, Kroměříž
END:VEVENT
BEGIN:VEVENT
DTSTART;TZID=Europe/Prague:20241109T090000
DTEND;TZID=Europe/Prague:20241110T130000
DTSTAMP:20260420T120728
CREATED:20240930T064305Z
LAST-MODIFIED:20240930T064305Z
UID:4411-1731142800-1731243600@www.konzkm.cz
SUMMARY:KM STRINGS
DESCRIPTION:Konzervatoř P. J. Vejvanovského Kroměříž pořádá interpretační kurzy ve hře na smyčcové nástroje pro talentované žáky ZUŠ.
URL:https://www.konzkm.cz/akce/km-strings-7/
LOCATION:aula konzervatoře
END:VEVENT
BEGIN:VEVENT
DTSTART;TZID=Europe/Prague:20241005T090000
DTEND;TZID=Europe/Prague:20241006T180000
DTSTAMP:20260420T120728
CREATED:20240916T082712Z
LAST-MODIFIED:20240930T063936Z
UID:4388-1728118800-1728237600@www.konzkm.cz
SUMMARY:KM WINDS
DESCRIPTION:Konzervatoř P. J. Vejvanovského Kroměříž pořádá interpretační kurzy ve hře na dechové nástroje pro talentované žáky ZUŠ.
URL:https://www.konzkm.cz/akce/km-winds-7/
LOCATION:aula konzervatoře
END:VEVENT
BEGIN:VEVENT
DTSTART;TZID=Europe/Prague:20241001T190000
DTEND;TZID=Europe/Prague:20241001T190000
DTSTAMP:20260420T120728
CREATED:20240923T072137Z
LAST-MODIFIED:20240923T072137Z
UID:4395-1727809200-1727809200@www.konzkm.cz
SUMMARY:Benefiční koncert
DESCRIPTION:
URL:https://www.konzkm.cz/akce/beneficni-koncert/
LOCATION:Sněmovní sál Arcibiskupského zámku\, Sněmovní nám. 1\, Kroměříž\, 76701
END:VEVENT
BEGIN:VEVENT
DTSTART;TZID=Europe/Prague:20240917T190000
DTEND;TZID=Europe/Prague:20240917T190000
DTSTAMP:20260420T120728
CREATED:20240904T071013Z
LAST-MODIFIED:20240910T131808Z
UID:4372-1726599600-1726599600@www.konzkm.cz
SUMMARY:Mistři pěvci kroměřížští II.
DESCRIPTION:
URL:https://www.konzkm.cz/akce/mistri-pevci-kromerizsti-ii-2/
LOCATION:koncertní sál kina Nadsklepí\, Milíčovo náměstí 488/2\, Kroměříž\, 76701
END:VEVENT
BEGIN:VEVENT
DTSTART;TZID=Europe/Prague:20240912T190000
DTEND;TZID=Europe/Prague:20240912T200000
DTSTAMP:20260420T120728
CREATED:20240904T070623Z
LAST-MODIFIED:20240910T131802Z
UID:4369-1726167600-1726171200@www.konzkm.cz
SUMMARY:Bastien a Bastienka (Jeník a Hanička) aneb kroměřížské namlóvání
DESCRIPTION:
URL:https://www.konzkm.cz/akce/bastien-a-bastienka-jenik-a-hanicka-aneb-kromerizske-namlovani/
LOCATION:aula konzervatoře
END:VEVENT
BEGIN:VEVENT
DTSTART;TZID=Europe/Prague:20240511T090000
DTEND;TZID=Europe/Prague:20240511T170000
DTSTAMP:20260420T120728
CREATED:20240321T184454Z
LAST-MODIFIED:20240321T184454Z
UID:4260-1715418000-1715446800@www.konzkm.cz
SUMMARY:KM GUITAR
DESCRIPTION:Konzervatoř P. J. Vejvanovského Kroměříž pořádá interpretační kurzy ve hře na kytaru pro talentované žáky ZUŠ.
URL:https://www.konzkm.cz/akce/km-guitar-2/
LOCATION:aula konzervatoře
END:VEVENT
BEGIN:VEVENT
DTSTART;TZID=Europe/Prague:20240423T190000
DTEND;TZID=Europe/Prague:20240423T190000
DTSTAMP:20260420T120728
CREATED:20240408T072439Z
LAST-MODIFIED:20240408T072439Z
UID:4278-1713898800-1713898800@www.konzkm.cz
SUMMARY:Orchestrální absolventský koncert
DESCRIPTION:
URL:https://www.konzkm.cz/akce/orchestralni-absolventsky-koncert-3/
LOCATION:secesní sál Psychiatrické nemocnice Kroměříž\, Kroměříž
CATEGORIES:absolventské koncerty
END:VEVENT
BEGIN:VEVENT
DTSTART;TZID=Europe/Prague:20240417T180000
DTEND;TZID=Europe/Prague:20240417T180000
DTSTAMP:20260420T120728
CREATED:20240408T072435Z
LAST-MODIFIED:20240408T072435Z
UID:4275-1713376800-1713376800@www.konzkm.cz
SUMMARY:Absolventský koncert
DESCRIPTION:
URL:https://www.konzkm.cz/akce/absolventsky-koncert-33/
LOCATION:Bazilika Nanebevzetí Panny Marie a sv. Cyrila a Metoděje Velehrad
CATEGORIES:absolventské koncerty
END:VEVENT
BEGIN:VEVENT
DTSTART;TZID=Europe/Prague:20240416T190000
DTEND;TZID=Europe/Prague:20240416T190000
DTSTAMP:20260420T120728
CREATED:20240408T072431Z
LAST-MODIFIED:20240408T072431Z
UID:4272-1713294000-1713294000@www.konzkm.cz
SUMMARY:Absolventský koncert
DESCRIPTION:
URL:https://www.konzkm.cz/akce/absolventsky-koncert-32/
LOCATION:secesní sál Psychiatrické nemocnice Kroměříž\, Kroměříž
CATEGORIES:absolventské koncerty
END:VEVENT
BEGIN:VEVENT
DTSTART;TZID=Europe/Prague:20240413T080000
DTEND;TZID=Europe/Prague:20240414T180000
DTSTAMP:20260420T120728
CREATED:20240321T184301Z
LAST-MODIFIED:20240321T184301Z
UID:4258-1712995200-1713117600@www.konzkm.cz
SUMMARY:KM WINDS
DESCRIPTION:Konzervatoř P. J. Vejvanovského Kroměříž pořádá interpretační kurzy ve hře na dechové nástroje pro talentované žáky ZUŠ.
URL:https://www.konzkm.cz/akce/km-winds-6/
LOCATION:aula konzervatoře
END:VEVENT
BEGIN:VEVENT
DTSTART;TZID=Europe/Prague:20240410T190000
DTEND;TZID=Europe/Prague:20240410T190000
DTSTAMP:20260420T120728
CREATED:20240326T081002Z
LAST-MODIFIED:20240410T074148Z
UID:4268-1712775600-1712775600@www.konzkm.cz
SUMMARY:Absolventský koncert
DESCRIPTION:
URL:https://www.konzkm.cz/akce/absolventsky-koncert-30/
LOCATION:secesní sál Psychiatrické nemocnice Kroměříž\, Kroměříž
CATEGORIES:absolventské koncerty
END:VEVENT
BEGIN:VEVENT
DTSTART;TZID=Europe/Prague:20240409T190000
DTEND;TZID=Europe/Prague:20240409T190000
DTSTAMP:20260420T120728
CREATED:20240326T081025Z
LAST-MODIFIED:20240521T063139Z
UID:4265-1712689200-1712689200@www.konzkm.cz
SUMMARY:Absolventský koncert
DESCRIPTION:
URL:https://www.konzkm.cz/akce/absolventsky-koncert-31/
LOCATION:koncertní sál kina Nadsklepí\, Milíčovo náměstí 488/2\, Kroměříž\, 76701
CATEGORIES:absolventské koncerty
END:VEVENT
BEGIN:VEVENT
DTSTART;TZID=Europe/Prague:20240406T080000
DTEND;TZID=Europe/Prague:20240406T190000
DTSTAMP:20260420T120728
CREATED:20240321T184044Z
LAST-MODIFIED:20240321T184044Z
UID:4256-1712390400-1712430000@www.konzkm.cz
SUMMARY:KM STRINGS
DESCRIPTION:Konzervatoř P. J. Vejvanovského Kroměříž pořádá interpretační kurzy ve hře na smyčcové nástroje pro talentované žáky ZUŠ.
URL:https://www.konzkm.cz/akce/km-strings-6/
LOCATION:aula konzervatoře
END:VEVENT
BEGIN:VEVENT
DTSTART;TZID=Europe/Prague:20240404T190000
DTEND;TZID=Europe/Prague:20240404T190000
DTSTAMP:20260420T120728
CREATED:20240326T081008Z
LAST-MODIFIED:20240409T153224Z
UID:4262-1712257200-1712257200@www.konzkm.cz
SUMMARY:Absolventský koncert
DESCRIPTION:
URL:https://www.konzkm.cz/akce/absolvnetsky-koncert/
LOCATION:secesní sál Psychiatrické nemocnice Kroměříž\, Kroměříž
CATEGORIES:absolventské koncerty
END:VEVENT
BEGIN:VEVENT
DTSTART;TZID=Europe/Prague:20240326T190000
DTEND;TZID=Europe/Prague:20240326T190000
DTSTAMP:20260420T120728
CREATED:20240311T075603Z
LAST-MODIFIED:20240326T081020Z
UID:4219-1711479600-1711479600@www.konzkm.cz
SUMMARY:Absolventský koncert
DESCRIPTION:
URL:https://www.konzkm.cz/akce/absolventsky-koncert-29/
LOCATION:secesní sál Psychiatrické nemocnice Kroměříž\, Kroměříž
CATEGORIES:absolventské koncerty
END:VEVENT
BEGIN:VEVENT
DTSTART;TZID=Europe/Prague:20240323T090000
DTEND;TZID=Europe/Prague:20240323T180000
DTSTAMP:20260420T120728
CREATED:20240321T183744Z
LAST-MODIFIED:20240321T183744Z
UID:4253-1711184400-1711216800@www.konzkm.cz
SUMMARY:KM VOCALS
DESCRIPTION:Konzervatoř P. J. Vejvanovského Kroměříž pořádá interpretační pěvecké kurzy pro talentované žáky ZUŠ.
URL:https://www.konzkm.cz/akce/km-vocals-4/
LOCATION:aula konzervatoře
END:VEVENT
BEGIN:VEVENT
DTSTART;TZID=Europe/Prague:20240320T190000
DTEND;TZID=Europe/Prague:20240320T190000
DTSTAMP:20260420T120728
CREATED:20240311T075209Z
LAST-MODIFIED:20240311T075209Z
UID:4216-1710961200-1710961200@www.konzkm.cz
SUMMARY:Absolventský koncert
DESCRIPTION:
URL:https://www.konzkm.cz/akce/absolventsky-koncert-28/
LOCATION:secesní sál Psychiatrické nemocnice Kroměříž\, Kroměříž
CATEGORIES:absolventské koncerty
END:VEVENT
END:VCALENDAR